BEGIN:VCALENDAR
VERSION:2.0
PRODID:-//www.wpcbluefield.com//NONSGML kigkonsult.se iCalcreator 2.39.1//
CALSCALE:GREGORIAN
METHOD:PUBLISH
UID:aa30196f-37f2-4a2d-9412-fbc0c116b489
X-WR-CALNAME:www.wpcbluefield.com
X-WR-CALDESC:www.wpcbluefield.com
X-WR-TIMEZONE:America/Los_Angeles
X-LIC-LOCATION:America/Los_Angeles
BEGIN:VEVENT
UID:137f597e-5799-4c30-9c8c-d5cef6e150f9
DTSTAMP:20260425T102252Z
CLASS:PUBLIC
DTSTART;TZID=America/Los_Angeles:20260426T120000
DTEND;TZID=America/Los_Angeles:20260426T130000
LOCATION:Westminster Presbyterian Church
SUMMARY:Staff Appreciation Potluck Dinner - 12:00 PM
TRANSP:OPAQUE
BEGIN:VALARM
ACTION:DISPLAY
DESCRIPTION:Staff Appreciation Potluck Dinner - 12:00 PM
TRIGGER:-PT15M
END:VALARM
END:VEVENT
END:VCALENDAR
