BEGIN:VCALENDAR
VERSION:2.0
PRODID:-//www.wpcbluefield.com//NONSGML kigkonsult.se iCalcreator 2.39.1//
CALSCALE:GREGORIAN
METHOD:PUBLISH
UID:3abf48b2-8e97-4674-9442-099e80d67b01
X-WR-CALNAME:www.wpcbluefield.com
X-WR-CALDESC:www.wpcbluefield.com
X-WR-TIMEZONE:America/Los_Angeles
X-LIC-LOCATION:America/Los_Angeles
BEGIN:VEVENT
UID:3a1ccebb-68f1-42f0-ac71-f80c9a4d7662
DTSTAMP:20260423T150752Z
CLASS:PUBLIC
DTSTART;TZID=America/Los_Angeles:20260423T180000
DTEND;TZID=America/Los_Angeles:20260423T200000
SUMMARY:Young Men's Bible Study - 6:00 PM
TRANSP:OPAQUE
BEGIN:VALARM
ACTION:DISPLAY
DESCRIPTION:Young Men's Bible Study - 6:00 PM
TRIGGER:-PT15M
END:VALARM
END:VEVENT
END:VCALENDAR
